Package: SCArray.sat Version: 1.11.0 Command: /Library/Frameworks/R.framework/Resources/bin/R CMD INSTALL SCArray.sat StartedAt: 2025-11-19 15:55:12 -0500 (Wed, 19 Nov 2025) EndedAt: 2025-11-19 15:56:10 -0500 (Wed, 19 Nov 2025) EllapsedTime: 58.0 seconds RetCode: 0 Status: OK