Package: SCArray.sat Version: 1.11.0 Command: /home/biocbuild/bbs-3.23-bioc/R/bin/R CMD INSTALL SCArray.sat StartedAt: 2025-11-19 15:58:55 -0500 (Wed, 19 Nov 2025) EndedAt: 2025-11-19 15:59:36 -0500 (Wed, 19 Nov 2025) EllapsedTime: 41.2 seconds RetCode: 0 Status: OK