Package: SCArray Version: 1.19.0 Command: /Library/Frameworks/R.framework/Resources/bin/R CMD INSTALL SCArray StartedAt: 2025-11-19 15:29:52 -0500 (Wed, 19 Nov 2025) EndedAt: 2025-11-19 15:30:08 -0500 (Wed, 19 Nov 2025) EllapsedTime: 15.5 seconds RetCode: 0 Status: OK