Package: SCArray Version: 1.19.0 Command: rm -rf SCArray.buildbin-libdir && mkdir SCArray.buildbin-libdir && /Users/biocbuild/BBS/utils/build-universal.sh SCArray_1.19.0.tar.gz /Library/Frameworks/R.framework/Resources/bin/R SCArray.buildbin-libdir StartedAt: 2025-11-20 01:54:22 -0500 (Thu, 20 Nov 2025) EndedAt: 2025-11-20 01:55:26 -0500 (Thu, 20 Nov 2025) EllapsedTime: 63.6 seconds RetCode: 0 Status: OK PackageFile: SCArray_1.19.0.tgz PackageFileSize: 2.402 MiB