Package: SCArray Version: 1.19.0 Command: /Library/Frameworks/R.framework/Resources/bin/R CMD build --keep-empty-dirs --no-resave-data SCArray StartedAt: 2025-11-19 18:33:11 -0500 (Wed, 19 Nov 2025) EndedAt: 2025-11-19 18:34:33 -0500 (Wed, 19 Nov 2025) EllapsedTime: 82.0 seconds RetCode: 0 Status: OK PackageFile: SCArray_1.19.0.tar.gz PackageFileSize: 1.358 MiB