Package: SCArray Version: 1.19.0 Command: /home/biocbuild/bbs-3.23-bioc/R/bin/R CMD build --keep-empty-dirs --no-resave-data SCArray StartedAt: 2025-11-19 19:50:37 -0500 (Wed, 19 Nov 2025) EndedAt: 2025-11-19 19:51:58 -0500 (Wed, 19 Nov 2025) EllapsedTime: 81.1 seconds RetCode: 0 Status: OK PackageFile: SCArray_1.19.0.tar.gz PackageFileSize: 1.338 MiB