Package: SIMLR Version: 1.37.0 Command: /Library/Frameworks/R.framework/Resources/bin/R CMD build --keep-empty-dirs --no-resave-data SIMLR StartedAt: 2025-11-25 17:41:27 -0500 (Tue, 25 Nov 2025) EndedAt: 2025-11-25 17:41:53 -0500 (Tue, 25 Nov 2025) EllapsedTime: 26.3 seconds RetCode: 0 Status: OK PackageFile: SIMLR_1.37.0.tar.gz PackageFileSize: 4.126 MiB