Package: SPsimSeq Version: 1.21.0 Command: /Library/Frameworks/R.framework/Resources/bin/R CMD INSTALL SPsimSeq StartedAt: 2025-11-18 15:33:30 -0500 (Tue, 18 Nov 2025) EndedAt: 2025-11-18 15:33:44 -0500 (Tue, 18 Nov 2025) EllapsedTime: 14.1 seconds RetCode: 0 Status: OK