Package: SPsimSeq Version: 1.21.0 Command: /Library/Frameworks/R.framework/Resources/bin/R CMD build --keep-empty-dirs --no-resave-data SPsimSeq StartedAt: 2025-11-25 19:04:44 -0500 (Tue, 25 Nov 2025) EndedAt: 2025-11-25 19:08:56 -0500 (Tue, 25 Nov 2025) EllapsedTime: 251.7 seconds RetCode: 0 Status: OK PackageFile: SPsimSeq_1.21.0.tar.gz PackageFileSize: 774.2 KiB