Package: SPsimSeq Version: 1.21.0 Command: /Library/Frameworks/R.framework/Resources/bin/R CMD INSTALL SPsimSeq StartedAt: 2025-11-25 15:52:02 -0500 (Tue, 25 Nov 2025) EndedAt: 2025-11-25 15:52:50 -0500 (Tue, 25 Nov 2025) EllapsedTime: 47.8 seconds RetCode: 0 Status: OK