Package: SQLDataFrame Version: 1.25.0 Command: /Library/Frameworks/R.framework/Resources/bin/R CMD INSTALL SQLDataFrame StartedAt: 2025-11-19 15:09:45 -0500 (Wed, 19 Nov 2025) EndedAt: 2025-11-19 15:09:52 -0500 (Wed, 19 Nov 2025) EllapsedTime: 6.8 seconds RetCode: 0 Status: OK