Package: SQLDataFrame Version: 1.25.0 Command: /Library/Frameworks/R.framework/Resources/bin/R CMD build --keep-empty-dirs --no-resave-data SQLDataFrame StartedAt: 2025-11-19 18:54:31 -0500 (Wed, 19 Nov 2025) EndedAt: 2025-11-19 18:55:18 -0500 (Wed, 19 Nov 2025) EllapsedTime: 46.8 seconds RetCode: 0 Status: OK PackageFile: SQLDataFrame_1.25.0.tar.gz PackageFileSize: 234.9 KiB