Package: SQLDataFrame Version: 1.25.0 Command: /Library/Frameworks/R.framework/Resources/bin/R CMD check --install=check:SQLDataFrame.install-out.txt --library=/Library/Frameworks/R.framework/Resources/library --no-vignettes --timings SQLDataFrame_1.25.0.tar.gz StartedAt: 2025-11-20 00:29:16 -0500 (Thu, 20 Nov 2025) EndedAt: 2025-11-20 00:32:19 -0500 (Thu, 20 Nov 2025) EllapsedTime: 183.5 seconds RetCode: 1 Status: ERROR CheckDir: SQLDataFrame.Rcheck Warnings: NA