Package: SQLDataFrame Version: 1.25.0 Command: /home/biocbuild/bbs-3.23-bioc/R/bin/R CMD INSTALL SQLDataFrame StartedAt: 2025-11-19 15:19:04 -0500 (Wed, 19 Nov 2025) EndedAt: 2025-11-19 15:19:21 -0500 (Wed, 19 Nov 2025) EllapsedTime: 16.5 seconds RetCode: 0 Status: OK