Package: SeqArray Version: 1.51.0 Command: /Library/Frameworks/R.framework/Resources/bin/R CMD INSTALL SeqArray StartedAt: 2025-11-19 15:12:35 -0500 (Wed, 19 Nov 2025) EndedAt: 2025-11-19 15:12:47 -0500 (Wed, 19 Nov 2025) EllapsedTime: 12.5 seconds RetCode: 0 Status: OK