Package: SeqArray Version: 1.51.0 Command: /Library/Frameworks/R.framework/Resources/bin/R CMD INSTALL SeqArray StartedAt: 2025-11-19 15:24:02 -0500 (Wed, 19 Nov 2025) EndedAt: 2025-11-19 15:24:56 -0500 (Wed, 19 Nov 2025) EllapsedTime: 53.2 seconds RetCode: 0 Status: OK