Package: SeqArray Version: 1.51.0 Command: /home/biocbuild/bbs-3.23-bioc/R/bin/R CMD build --keep-empty-dirs --no-resave-data SeqArray StartedAt: 2025-11-19 20:02:53 -0500 (Wed, 19 Nov 2025) EndedAt: 2025-11-19 20:04:29 -0500 (Wed, 19 Nov 2025) EllapsedTime: 96.1 seconds RetCode: 1 Status: ERROR PackageFile: None PackageFileSize: NA