Package: SharedObject Version: 1.25.0 Command: /Library/Frameworks/R.framework/Resources/bin/R CMD build --keep-empty-dirs --no-resave-data SharedObject StartedAt: 2025-11-19 17:40:16 -0500 (Wed, 19 Nov 2025) EndedAt: 2025-11-19 17:40:30 -0500 (Wed, 19 Nov 2025) EllapsedTime: 14.2 seconds RetCode: 0 Status: OK PackageFile: SharedObject_1.25.0.tar.gz PackageFileSize: 1.886 MiB