Package: SharedObject Version: 1.25.0 Command: /Library/Frameworks/R.framework/Resources/bin/R CMD INSTALL SharedObject StartedAt: 2025-11-19 15:08:18 -0500 (Wed, 19 Nov 2025) EndedAt: 2025-11-19 15:08:27 -0500 (Wed, 19 Nov 2025) EllapsedTime: 9.2 seconds RetCode: 0 Status: OK