Package: SharedObject Version: 1.25.0 Command: /Library/Frameworks/R.framework/Resources/bin/R CMD INSTALL SharedObject StartedAt: 2025-11-19 15:19:47 -0500 (Wed, 19 Nov 2025) EndedAt: 2025-11-19 15:20:26 -0500 (Wed, 19 Nov 2025) EllapsedTime: 39.0 seconds RetCode: 0 Status: OK