Package: SharedObject Version: 1.25.0 Command: /home/biocbuild/bbs-3.23-bioc/R/bin/R CMD build --keep-empty-dirs --no-resave-data SharedObject StartedAt: 2025-11-19 20:04:52 -0500 (Wed, 19 Nov 2025) EndedAt: 2025-11-19 20:05:31 -0500 (Wed, 19 Nov 2025) EllapsedTime: 39.0 seconds RetCode: 0 Status: OK PackageFile: SharedObject_1.25.0.tar.gz PackageFileSize: 2.824 MiB