Package: SharedObject Version: 1.25.0 Command: /home/biocbuild/bbs-3.23-bioc/R/bin/R CMD INSTALL SharedObject StartedAt: 2025-11-19 15:15:12 -0500 (Wed, 19 Nov 2025) EndedAt: 2025-11-19 15:15:39 -0500 (Wed, 19 Nov 2025) EllapsedTime: 27.1 seconds RetCode: 0 Status: OK