Package: SparseArray Version: 1.11.2 Maintainer: Hervé Pagès MaintainerEmail: hpages.on.github at gmail.com git_url: https://git.bioconductor.org/packages/SparseArray git_branch: devel git_last_commit: 93f1afe git_last_commit_date: 2025-11-18 19:53:51 -0500 (Tue, 18 Nov 2025)