Package: SparseArray Version: 1.11.2 Command: /Library/Frameworks/R.framework/Resources/bin/R CMD INSTALL SparseArray StartedAt: 2025-11-19 15:09:29 -0500 (Wed, 19 Nov 2025) EndedAt: 2025-11-19 15:09:32 -0500 (Wed, 19 Nov 2025) EllapsedTime: 2.7 seconds RetCode: 1 Status: ERROR