Package: SparseArray Version: 1.11.2 Command: rm -rf SparseArray.buildbin-libdir && mkdir SparseArray.buildbin-libdir && /Users/biocbuild/BBS/utils/build-universal.sh SparseArray_1.11.2.tar.gz /Library/Frameworks/R.framework/Resources/bin/R SparseArray.buildbin-libdir StartedAt: 2025-11-19 01:54:10 -0500 (Wed, 19 Nov 2025) EndedAt: 2025-11-19 01:55:05 -0500 (Wed, 19 Nov 2025) EllapsedTime: 55.4 seconds RetCode: 0 Status: OK PackageFile: SparseArray_1.11.2.tgz PackageFileSize: 1.791 MiB