Package: SparseArray Version: 1.11.2 Command: /Library/Frameworks/R.framework/Resources/bin/R CMD build --keep-empty-dirs --no-resave-data SparseArray StartedAt: 2025-11-19 18:49:23 -0500 (Wed, 19 Nov 2025) EndedAt: 2025-11-19 18:49:34 -0500 (Wed, 19 Nov 2025) EllapsedTime: 11.4 seconds RetCode: 1 Status: ERROR PackageFile: None PackageFileSize: NA