############################################################################## ############################################################################## ### ### Running command: ### ### /Library/Frameworks/R.framework/Resources/bin/R CMD INSTALL SparseArray ### ############################################################################## ############################################################################## * installing to library ‘/Library/Frameworks/R.framework/Versions/4.6-x86_64/Resources/library’ * installing *source* package ‘SparseArray’ ... ** this is package ‘SparseArray’ version ‘1.11.2’ ** using staged installation ** libs using C compiler: ‘Apple clang version 14.0.3 (clang-1403.0.22.14.1)’ using SDK: ‘MacOSX11.3.1.sdk’ clang -arch x86_64 -I"/Library/Frameworks/R.framework/Resources/include" -DNDEBUG -I'/Library/Frameworks/R.framework/Versions/4.6-x86_64/Resources/library/S4Vectors/include' -I'/Library/Frameworks/R.framework/Versions/4.6-x86_64/Resources/library/IRanges/include' -I'/Library/Frameworks/R.framework/Versions/4.6-x86_64/Resources/library/XVector/include' -I/opt/R/x86_64/include -fPIC -falign-functions=64 -Wall -g -O2 -c ExtendableJaggedArray.c -o ExtendableJaggedArray.o clang -arch x86_64 -I"/Library/Frameworks/R.framework/Resources/include" -DNDEBUG -I'/Library/Frameworks/R.framework/Versions/4.6-x86_64/Resources/library/S4Vectors/include' -I'/Library/Frameworks/R.framework/Versions/4.6-x86_64/Resources/library/IRanges/include' -I'/Library/Frameworks/R.framework/Versions/4.6-x86_64/Resources/library/XVector/include' -I/opt/R/x86_64/include -fPIC -falign-functions=64 -Wall -g -O2 -c IRanges_stubs.c -o IRanges_stubs.o clang -arch x86_64 -I"/Library/Frameworks/R.framework/Resources/include" -DNDEBUG -I'/Library/Frameworks/R.framework/Versions/4.6-x86_64/Resources/library/S4Vectors/include' -I'/Library/Frameworks/R.framework/Versions/4.6-x86_64/Resources/library/IRanges/include' -I'/Library/Frameworks/R.framework/Versions/4.6-x86_64/Resources/library/XVector/include' -I/opt/R/x86_64/include -fPIC -falign-functions=64 -Wall -g -O2 -c OPBufTree.c -o OPBufTree.o clang -arch x86_64 -I"/Library/Frameworks/R.framework/Resources/include" -DNDEBUG -I'/Library/Frameworks/R.framework/Versions/4.6-x86_64/Resources/library/S4Vectors/include' -I'/Library/Frameworks/R.framework/Versions/4.6-x86_64/Resources/library/IRanges/include' -I'/Library/Frameworks/R.framework/Versions/4.6-x86_64/Resources/library/XVector/include' -I/opt/R/x86_64/include -fPIC -falign-functions=64 -Wall -g -O2 -c R_init_SparseArray.c -o R_init_SparseArray.o clang -arch x86_64 -I"/Library/Frameworks/R.framework/Resources/include" -DNDEBUG -I'/Library/Frameworks/R.framework/Versions/4.6-x86_64/Resources/library/S4Vectors/include' -I'/Library/Frameworks/R.framework/Versions/4.6-x86_64/Resources/library/IRanges/include' -I'/Library/Frameworks/R.framework/Versions/4.6-x86_64/Resources/library/XVector/include' -I/opt/R/x86_64/include -fPIC -falign-functions=64 -Wall -g -O2 -c Rvector_summarization.c -o Rvector_summarization.o Rvector_summarization.c:1360:12: warning: unused function 'any_NA_list_elt' [-Wunused-function] static int any_NA_list_elt(SEXP x) ^ Rvector_summarization.c:1370:12: warning: unused function 'count_NA_list_elts' [-Wunused-function] static int count_NA_list_elts(SEXP x) ^ 2 warnings generated. clang -arch x86_64 -I"/Library/Frameworks/R.framework/Resources/include" -DNDEBUG -I'/Library/Frameworks/R.framework/Versions/4.6-x86_64/Resources/library/S4Vectors/include' -I'/Library/Frameworks/R.framework/Versions/4.6-x86_64/Resources/library/IRanges/include' -I'/Library/Frameworks/R.framework/Versions/4.6-x86_64/Resources/library/XVector/include' -I/opt/R/x86_64/include -fPIC -falign-functions=64 -Wall -g -O2 -c Rvector_utils.c -o Rvector_utils.o clang -arch x86_64 -I"/Library/Frameworks/R.framework/Resources/include" -DNDEBUG -I'/Library/Frameworks/R.framework/Versions/4.6-x86_64/Resources/library/S4Vectors/include' -I'/Library/Frameworks/R.framework/Versions/4.6-x86_64/Resources/library/IRanges/include' -I'/Library/Frameworks/R.framework/Versions/4.6-x86_64/Resources/library/XVector/include' -I/opt/R/x86_64/include -fPIC -falign-functions=64 -Wall -g -O2 -c S4Vectors_stubs.c -o S4Vectors_stubs.o clang -arch x86_64 -I"/Library/Frameworks/R.framework/Resources/include" -DNDEBUG -I'/Library/Frameworks/R.framework/Versions/4.6-x86_64/Resources/library/S4Vectors/include' -I'/Library/Frameworks/R.framework/Versions/4.6-x86_64/Resources/library/IRanges/include' -I'/Library/Frameworks/R.framework/Versions/4.6-x86_64/Resources/library/XVector/include' -I/opt/R/x86_64/include -fPIC -falign-functions=64 -Wall -g -O2 -c SBT_utils.c -o SBT_utils.o clang -arch x86_64 -I"/Library/Frameworks/R.framework/Resources/include" -DNDEBUG -I'/Library/Frameworks/R.framework/Versions/4.6-x86_64/Resources/library/S4Vectors/include' -I'/Library/Frameworks/R.framework/Versions/4.6-x86_64/Resources/library/IRanges/include' -I'/Library/Frameworks/R.framework/Versions/4.6-x86_64/Resources/library/XVector/include' -I/opt/R/x86_64/include -fPIC -falign-functions=64 -Wall -g -O2 -c SVT_SparseArray_class.c -o SVT_SparseArray_class.o clang -arch x86_64 -I"/Library/Frameworks/R.framework/Resources/include" -DNDEBUG -I'/Library/Frameworks/R.framework/Versions/4.6-x86_64/Resources/library/S4Vectors/include' -I'/Library/Frameworks/R.framework/Versions/4.6-x86_64/Resources/library/IRanges/include' -I'/Library/Frameworks/R.framework/Versions/4.6-x86_64/Resources/library/XVector/include' -I/opt/R/x86_64/include -fPIC -falign-functions=64 -Wall -g -O2 -c SparseArray_Arith_methods.c -o SparseArray_Arith_methods.o clang -arch x86_64 -I"/Library/Frameworks/R.framework/Resources/include" -DNDEBUG -I'/Library/Frameworks/R.framework/Versions/4.6-x86_64/Resources/library/S4Vectors/include' -I'/Library/Frameworks/R.framework/Versions/4.6-x86_64/Resources/library/IRanges/include' -I'/Library/Frameworks/R.framework/Versions/4.6-x86_64/Resources/library/XVector/include' -I/opt/R/x86_64/include -fPIC -falign-functions=64 -Wall -g -O2 -c SparseArray_Compare_methods.c -o SparseArray_Compare_methods.o clang -arch x86_64 -I"/Library/Frameworks/R.framework/Resources/include" -DNDEBUG -I'/Library/Frameworks/R.framework/Versions/4.6-x86_64/Resources/library/S4Vectors/include' -I'/Library/Frameworks/R.framework/Versions/4.6-x86_64/Resources/library/IRanges/include' -I'/Library/Frameworks/R.framework/Versions/4.6-x86_64/Resources/library/XVector/include' -I/opt/R/x86_64/include -fPIC -falign-functions=64 -Wall -g -O2 -c SparseArray_Complex_methods.c -o SparseArray_Complex_methods.o clang -arch x86_64 -I"/Library/Frameworks/R.framework/Resources/include" -DNDEBUG -I'/Library/Frameworks/R.framework/Versions/4.6-x86_64/Resources/library/S4Vectors/include' -I'/Library/Frameworks/R.framework/Versions/4.6-x86_64/Resources/library/IRanges/include' -I'/Library/Frameworks/R.framework/Versions/4.6-x86_64/Resources/library/XVector/include' -I/opt/R/x86_64/include -fPIC -falign-functions=64 -Wall -g -O2 -c SparseArray_Logic_methods.c -o SparseArray_Logic_methods.o clang -arch x86_64 -I"/Library/Frameworks/R.framework/Resources/include" -DNDEBUG -I'/Library/Frameworks/R.framework/Versions/4.6-x86_64/Resources/library/S4Vectors/include' -I'/Library/Frameworks/R.framework/Versions/4.6-x86_64/Resources/library/IRanges/include' -I'/Library/Frameworks/R.framework/Versions/4.6-x86_64/Resources/library/XVector/include' -I/opt/R/x86_64/include -fPIC -falign-functions=64 -Wall -g -O2 -c SparseArray_Math_methods.c -o SparseArray_Math_methods.o clang -arch x86_64 -I"/Library/Frameworks/R.framework/Resources/include" -DNDEBUG -I'/Library/Frameworks/R.framework/Versions/4.6-x86_64/Resources/library/S4Vectors/include' -I'/Library/Frameworks/R.framework/Versions/4.6-x86_64/Resources/library/IRanges/include' -I'/Library/Frameworks/R.framework/Versions/4.6-x86_64/Resources/library/XVector/include' -I/opt/R/x86_64/include -fPIC -falign-functions=64 -Wall -g -O2 -c SparseArray_abind.c -o SparseArray_abind.o clang -arch x86_64 -I"/Library/Frameworks/R.framework/Resources/include" -DNDEBUG -I'/Library/Frameworks/R.framework/Versions/4.6-x86_64/Resources/library/S4Vectors/include' -I'/Library/Frameworks/R.framework/Versions/4.6-x86_64/Resources/library/IRanges/include' -I'/Library/Frameworks/R.framework/Versions/4.6-x86_64/Resources/library/XVector/include' -I/opt/R/x86_64/include -fPIC -falign-functions=64 -Wall -g -O2 -c SparseArray_aperm.c -o SparseArray_aperm.o clang -arch x86_64 -I"/Library/Frameworks/R.framework/Resources/include" -DNDEBUG -I'/Library/Frameworks/R.framework/Versions/4.6-x86_64/Resources/library/S4Vectors/include' -I'/Library/Frameworks/R.framework/Versions/4.6-x86_64/Resources/library/IRanges/include' -I'/Library/Frameworks/R.framework/Versions/4.6-x86_64/Resources/library/XVector/include' -I/opt/R/x86_64/include -fPIC -falign-functions=64 -Wall -g -O2 -c SparseArray_dim_tuning.c -o SparseArray_dim_tuning.o clang -arch x86_64 -I"/Library/Frameworks/R.framework/Resources/include" -DNDEBUG -I'/Library/Frameworks/R.framework/Versions/4.6-x86_64/Resources/library/S4Vectors/include' -I'/Library/Frameworks/R.framework/Versions/4.6-x86_64/Resources/library/IRanges/include' -I'/Library/Frameworks/R.framework/Versions/4.6-x86_64/Resources/library/XVector/include' -I/opt/R/x86_64/include -fPIC -falign-functions=64 -Wall -g -O2 -c SparseArray_matrixStats.c -o SparseArray_matrixStats.o clang -arch x86_64 -I"/Library/Frameworks/R.framework/Resources/include" -DNDEBUG -I'/Library/Frameworks/R.framework/Versions/4.6-x86_64/Resources/library/S4Vectors/include' -I'/Library/Frameworks/R.framework/Versions/4.6-x86_64/Resources/library/IRanges/include' -I'/Library/Frameworks/R.framework/Versions/4.6-x86_64/Resources/library/XVector/include' -I/opt/R/x86_64/include -fPIC -falign-functions=64 -Wall -g -O2 -c SparseArray_misc_methods.c -o SparseArray_misc_methods.o clang -arch x86_64 -I"/Library/Frameworks/R.framework/Resources/include" -DNDEBUG -I'/Library/Frameworks/R.framework/Versions/4.6-x86_64/Resources/library/S4Vectors/include' -I'/Library/Frameworks/R.framework/Versions/4.6-x86_64/Resources/library/IRanges/include' -I'/Library/Frameworks/R.framework/Versions/4.6-x86_64/Resources/library/XVector/include' -I/opt/R/x86_64/include -fPIC -falign-functions=64 -Wall -g -O2 -c SparseArray_subassignment.c -o SparseArray_subassignment.o clang -arch x86_64 -I"/Library/Frameworks/R.framework/Resources/include" -DNDEBUG -I'/Library/Frameworks/R.framework/Versions/4.6-x86_64/Resources/library/S4Vectors/include' -I'/Library/Frameworks/R.framework/Versions/4.6-x86_64/Resources/library/IRanges/include' -I'/Library/Frameworks/R.framework/Versions/4.6-x86_64/Resources/library/XVector/include' -I/opt/R/x86_64/include -fPIC -falign-functions=64 -Wall -g -O2 -c SparseArray_subsetting.c -o SparseArray_subsetting.o clang -arch x86_64 -I"/Library/Frameworks/R.framework/Resources/include" -DNDEBUG -I'/Library/Frameworks/R.framework/Versions/4.6-x86_64/Resources/library/S4Vectors/include' -I'/Library/Frameworks/R.framework/Versions/4.6-x86_64/Resources/library/IRanges/include' -I'/Library/Frameworks/R.framework/Versions/4.6-x86_64/Resources/library/XVector/include' -I/opt/R/x86_64/include -fPIC -falign-functions=64 -Wall -g -O2 -c SparseArray_summarization.c -o SparseArray_summarization.o clang -arch x86_64 -I"/Library/Frameworks/R.framework/Resources/include" -DNDEBUG -I'/Library/Frameworks/R.framework/Versions/4.6-x86_64/Resources/library/S4Vectors/include' -I'/Library/Frameworks/R.framework/Versions/4.6-x86_64/Resources/library/IRanges/include' -I'/Library/Frameworks/R.framework/Versions/4.6-x86_64/Resources/library/XVector/include' -I/opt/R/x86_64/include -fPIC -falign-functions=64 -Wall -g -O2 -c SparseMatrix_mult.c -o SparseMatrix_mult.o SparseMatrix_mult.c:306:13: warning: unused function 'crossprod2_doubleSV_doublemat' [-Wunused-function] static void crossprod2_doubleSV_doublemat( ^ SparseMatrix_mult.c:346:13: warning: unused function 'crossprod2_doublemat_doubleSV' [-Wunused-function] static void crossprod2_doublemat_doubleSV( ^ 2 warnings generated. clang -arch x86_64 -I"/Library/Frameworks/R.framework/Resources/include" -DNDEBUG -I'/Library/Frameworks/R.framework/Versions/4.6-x86_64/Resources/library/S4Vectors/include' -I'/Library/Frameworks/R.framework/Versions/4.6-x86_64/Resources/library/IRanges/include' -I'/Library/Frameworks/R.framework/Versions/4.6-x86_64/Resources/library/XVector/include' -I/opt/R/x86_64/include -fPIC -falign-functions=64 -Wall -g -O2 -c SparseVec.c -o SparseVec.o clang -arch x86_64 -I"/Library/Frameworks/R.framework/Resources/include" -DNDEBUG -I'/Library/Frameworks/R.framework/Versions/4.6-x86_64/Resources/library/S4Vectors/include' -I'/Library/Frameworks/R.framework/Versions/4.6-x86_64/Resources/library/IRanges/include' -I'/Library/Frameworks/R.framework/Versions/4.6-x86_64/Resources/library/XVector/include' -I/opt/R/x86_64/include -fPIC -falign-functions=64 -Wall -g -O2 -c SparseVec_Arith.c -o SparseVec_Arith.o clang -arch x86_64 -I"/Library/Frameworks/R.framework/Resources/include" -DNDEBUG -I'/Library/Frameworks/R.framework/Versions/4.6-x86_64/Resources/library/S4Vectors/include' -I'/Library/Frameworks/R.framework/Versions/4.6-x86_64/Resources/library/IRanges/include' -I'/Library/Frameworks/R.framework/Versions/4.6-x86_64/Resources/library/XVector/include' -I/opt/R/x86_64/include -fPIC -falign-functions=64 -Wall -g -O2 -c SparseVec_Compare.c -o SparseVec_Compare.o clang -arch x86_64 -I"/Library/Frameworks/R.framework/Resources/include" -DNDEBUG -I'/Library/Frameworks/R.framework/Versions/4.6-x86_64/Resources/library/S4Vectors/include' -I'/Library/Frameworks/R.framework/Versions/4.6-x86_64/Resources/library/IRanges/include' -I'/Library/Frameworks/R.framework/Versions/4.6-x86_64/Resources/library/XVector/include' -I/opt/R/x86_64/include -fPIC -falign-functions=64 -Wall -g -O2 -c SparseVec_Logic.c -o SparseVec_Logic.o clang -arch x86_64 -I"/Library/Frameworks/R.framework/Resources/include" -DNDEBUG -I'/Library/Frameworks/R.framework/Versions/4.6-x86_64/Resources/library/S4Vectors/include' -I'/Library/Frameworks/R.framework/Versions/4.6-x86_64/Resources/library/IRanges/include' -I'/Library/Frameworks/R.framework/Versions/4.6-x86_64/Resources/library/XVector/include' -I/opt/R/x86_64/include -fPIC -falign-functions=64 -Wall -g -O2 -c SparseVec_Math.c -o SparseVec_Math.o clang -arch x86_64 -I"/Library/Frameworks/R.framework/Resources/include" -DNDEBUG -I'/Library/Frameworks/R.framework/Versions/4.6-x86_64/Resources/library/S4Vectors/include' -I'/Library/Frameworks/R.framework/Versions/4.6-x86_64/Resources/library/IRanges/include' -I'/Library/Frameworks/R.framework/Versions/4.6-x86_64/Resources/library/XVector/include' -I/opt/R/x86_64/include -fPIC -falign-functions=64 -Wall -g -O2 -c SparseVec_dotprod.c -o SparseVec_dotprod.o clang -arch x86_64 -I"/Library/Frameworks/R.framework/Resources/include" -DNDEBUG -I'/Library/Frameworks/R.framework/Versions/4.6-x86_64/Resources/library/S4Vectors/include' -I'/Library/Frameworks/R.framework/Versions/4.6-x86_64/Resources/library/IRanges/include' -I'/Library/Frameworks/R.framework/Versions/4.6-x86_64/Resources/library/XVector/include' -I/opt/R/x86_64/include -fPIC -falign-functions=64 -Wall -g -O2 -c SparseVec_subassignment.c -o SparseVec_subassignment.o SparseVec_subassignment.c:63:1: error: expected expression DEFINE_next_subassign_typeSV_out_val_FUN(int) ^ SparseVec_subassignment.c:55:3: note: expanded from macro 'DEFINE_next_subassign_typeSV_out_val_FUN' int i = selection2 == NULL ? *k : selection2[*k]; \ ^ SparseVec_subassignment.c:63:1: error: use of undeclared identifier 'i' SparseVec_subassignment.c:56:20: note: expanded from macro 'DEFINE_next_subassign_typeSV_out_val_FUN' *out_val = vals2[i]; \ ^ SparseVec_subassignment.c:64:1: error: expected expression DEFINE_next_subassign_typeSV_out_val_FUN(double) ^ SparseVec_subassignment.c:55:3: note: expanded from macro 'DEFINE_next_subassign_typeSV_out_val_FUN' int i = selection2 == NULL ? *k : selection2[*k]; \ ^ SparseVec_subassignment.c:64:1: error: use of undeclared identifier 'i' SparseVec_subassignment.c:56:20: note: expanded from macro 'DEFINE_next_subassign_typeSV_out_val_FUN' *out_val = vals2[i]; \ ^ SparseVec_subassignment.c:65:1: error: expected expression DEFINE_next_subassign_typeSV_out_val_FUN(Rcomplex) ^ SparseVec_subassignment.c:55:3: note: expanded from macro 'DEFINE_next_subassign_typeSV_out_val_FUN' int i = selection2 == NULL ? *k : selection2[*k]; \ ^ SparseVec_subassignment.c:65:1: error: use of undeclared identifier 'i' SparseVec_subassignment.c:56:20: note: expanded from macro 'DEFINE_next_subassign_typeSV_out_val_FUN' *out_val = vals2[i]; \ ^ SparseVec_subassignment.c:66:1: error: expected expression DEFINE_next_subassign_typeSV_out_val_FUN(Rbyte) ^ SparseVec_subassignment.c:55:3: note: expanded from macro 'DEFINE_next_subassign_typeSV_out_val_FUN' int i = selection2 == NULL ? *k : selection2[*k]; \ ^ SparseVec_subassignment.c:66:1: error: use of undeclared identifier 'i' SparseVec_subassignment.c:56:20: note: expanded from macro 'DEFINE_next_subassign_typeSV_out_val_FUN' *out_val = vals2[i]; \ ^ 8 errors generated. make: *** [SparseVec_subassignment.o] Error 1 ERROR: compilation failed for package ‘SparseArray’ * removing ‘/Library/Frameworks/R.framework/Versions/4.6-x86_64/Resources/library/SparseArray’ * restoring previous ‘/Library/Frameworks/R.framework/Versions/4.6-x86_64/Resources/library/SparseArray’