Package: SparseArray Version: 1.11.2 Command: /home/biocbuild/bbs-3.23-bioc/R/bin/R CMD build --keep-empty-dirs --no-resave-data SparseArray StartedAt: 2025-11-19 20:13:25 -0500 (Wed, 19 Nov 2025) EndedAt: 2025-11-19 20:14:18 -0500 (Wed, 19 Nov 2025) EllapsedTime: 53.0 seconds RetCode: 0 Status: OK PackageFile: SparseArray_1.11.2.tar.gz PackageFileSize: 453.5 KiB