Package: SparseArray Version: 1.11.2 Command: /home/biocbuild/bbs-3.23-bioc/R/bin/R CMD INSTALL SparseArray StartedAt: 2025-11-19 15:17:58 -0500 (Wed, 19 Nov 2025) EndedAt: 2025-11-19 15:18:32 -0500 (Wed, 19 Nov 2025) EllapsedTime: 33.4 seconds RetCode: 0 Status: OK