Package: SparseSignatures Version: 2.21.0 Command: /Library/Frameworks/R.framework/Resources/bin/R CMD INSTALL SparseSignatures StartedAt: 2025-11-19 15:18:32 -0500 (Wed, 19 Nov 2025) EndedAt: 2025-11-19 15:18:48 -0500 (Wed, 19 Nov 2025) EllapsedTime: 16.3 seconds RetCode: 0 Status: OK