Package: SparseSignatures Version: 2.21.0 Command: /Library/Frameworks/R.framework/Resources/bin/R CMD build --keep-empty-dirs --no-resave-data SparseSignatures StartedAt: 2025-11-20 18:48:50 -0500 (Thu, 20 Nov 2025) EndedAt: 2025-11-20 18:53:20 -0500 (Thu, 20 Nov 2025) EllapsedTime: 269.6 seconds RetCode: 0 Status: OK PackageFile: SparseSignatures_2.21.0.tar.gz PackageFileSize: 1.462 MiB