Package: SparseSignatures Version: 2.21.0 Command: /Library/Frameworks/R.framework/Resources/bin/R CMD INSTALL SparseSignatures StartedAt: 2025-11-20 15:35:27 -0500 (Thu, 20 Nov 2025) EndedAt: 2025-11-20 15:36:18 -0500 (Thu, 20 Nov 2025) EllapsedTime: 50.6 seconds RetCode: 0 Status: OK