Package: SparseSignatures Version: 2.21.0 Command: /home/biocbuild/bbs-3.23-bioc/R/bin/R CMD INSTALL SparseSignatures StartedAt: 2025-11-20 15:27:41 -0500 (Thu, 20 Nov 2025) EndedAt: 2025-11-20 15:28:22 -0500 (Thu, 20 Nov 2025) EllapsedTime: 41.0 seconds RetCode: 0 Status: OK