Package: SpatialDecon Version: 1.21.0 Command: /Library/Frameworks/R.framework/Resources/bin/R CMD build --keep-empty-dirs --no-resave-data SpatialDecon StartedAt: 2025-11-19 17:45:51 -0500 (Wed, 19 Nov 2025) EndedAt: 2025-11-19 17:46:53 -0500 (Wed, 19 Nov 2025) EllapsedTime: 62.7 seconds RetCode: 0 Status: OK PackageFile: SpatialDecon_1.21.0.tar.gz PackageFileSize: 5.282 MiB