Package: SpatialDecon Version: 1.21.0 Command: /Library/Frameworks/R.framework/Resources/bin/R CMD INSTALL SpatialDecon StartedAt: 2025-11-19 15:33:18 -0500 (Wed, 19 Nov 2025) EndedAt: 2025-11-19 15:33:27 -0500 (Wed, 19 Nov 2025) EllapsedTime: 9.2 seconds RetCode: 0 Status: OK