Package: SpatialDecon Version: 1.21.0 Command: /Library/Frameworks/R.framework/Resources/bin/R CMD build --keep-empty-dirs --no-resave-data SpatialDecon StartedAt: 2025-11-19 18:49:55 -0500 (Wed, 19 Nov 2025) EndedAt: 2025-11-19 18:52:33 -0500 (Wed, 19 Nov 2025) EllapsedTime: 158.8 seconds RetCode: 0 Status: OK PackageFile: SpatialDecon_1.21.0.tar.gz PackageFileSize: 5.277 MiB