Package: SpatialDecon Version: 1.21.0 Command: /home/biocbuild/bbs-3.23-bioc/R/bin/R CMD build --keep-empty-dirs --no-resave-data SpatialDecon StartedAt: 2025-11-24 20:14:57 -0500 (Mon, 24 Nov 2025) EndedAt: 2025-11-24 20:17:24 -0500 (Mon, 24 Nov 2025) EllapsedTime: 147.1 seconds RetCode: 0 Status: OK PackageFile: SpatialDecon_1.21.0.tar.gz PackageFileSize: 5.11 MiB