Package: SpatialDecon Version: 1.21.0 Command: /home/biocbuild/bbs-3.23-bioc/R/bin/R CMD INSTALL SpatialDecon StartedAt: 2025-11-24 15:59:52 -0500 (Mon, 24 Nov 2025) EndedAt: 2025-11-24 16:00:15 -0500 (Mon, 24 Nov 2025) EllapsedTime: 23.7 seconds RetCode: 0 Status: OK