Package: SpatialExperimentIO Version: 1.3.0 Command: /Library/Frameworks/R.framework/Resources/bin/R CMD build --keep-empty-dirs --no-resave-data SpatialExperimentIO StartedAt: 2025-11-19 17:46:05 -0500 (Wed, 19 Nov 2025) EndedAt: 2025-11-19 17:46:28 -0500 (Wed, 19 Nov 2025) EllapsedTime: 23.2 seconds RetCode: 0 Status: OK PackageFile: SpatialExperimentIO_1.3.0.tar.gz PackageFileSize: 608.1 KiB