Package: SpatialExperimentIO Version: 1.3.0 Command: /Library/Frameworks/R.framework/Resources/bin/R CMD INSTALL SpatialExperimentIO StartedAt: 2025-11-18 15:36:08 -0500 (Tue, 18 Nov 2025) EndedAt: 2025-11-18 15:36:21 -0500 (Tue, 18 Nov 2025) EllapsedTime: 12.3 seconds RetCode: 0 Status: OK