Package: SpatialExperimentIO Version: 1.3.0 Command: rm -rf SpatialExperimentIO.buildbin-libdir && mkdir SpatialExperimentIO.buildbin-libdir && /Users/biocbuild/BBS/utils/build-universal.sh SpatialExperimentIO_1.3.0.tar.gz /Library/Frameworks/R.framework/Resources/bin/R SpatialExperimentIO.buildbin-libdir StartedAt: 2025-11-20 01:58:29 -0500 (Thu, 20 Nov 2025) EndedAt: 2025-11-20 01:59:13 -0500 (Thu, 20 Nov 2025) EllapsedTime: 43.9 seconds RetCode: 0 Status: OK PackageFile: SpatialExperimentIO_1.3.0.tgz PackageFileSize: 648.4 KiB