Package: SpatialExperimentIO Version: 1.3.0 Command: /Library/Frameworks/R.framework/Resources/bin/R CMD build --keep-empty-dirs --no-resave-data SpatialExperimentIO StartedAt: 2025-11-19 18:50:04 -0500 (Wed, 19 Nov 2025) EndedAt: 2025-11-19 18:51:02 -0500 (Wed, 19 Nov 2025) EllapsedTime: 58.2 seconds RetCode: 0 Status: OK PackageFile: SpatialExperimentIO_1.3.0.tar.gz PackageFileSize: 607.9 KiB