Package: SpatialExperimentIO Version: 1.3.0 Command: /home/biocbuild/bbs-3.23-bioc/R/bin/R CMD build --keep-empty-dirs --no-resave-data SpatialExperimentIO StartedAt: 2025-11-19 20:15:20 -0500 (Wed, 19 Nov 2025) EndedAt: 2025-11-19 20:16:08 -0500 (Wed, 19 Nov 2025) EllapsedTime: 48.0 seconds RetCode: 0 Status: OK PackageFile: SpatialExperimentIO_1.3.0.tar.gz PackageFileSize: 608.1 KiB