Package: SpatialExperimentIO Version: 1.3.0 Command: /home/biocbuild/bbs-3.23-bioc/R/bin/R CMD INSTALL SpatialExperimentIO StartedAt: 2025-11-18 16:42:46 -0500 (Tue, 18 Nov 2025) EndedAt: 2025-11-18 16:43:18 -0500 (Tue, 18 Nov 2025) EllapsedTime: 31.3 seconds RetCode: 0 Status: OK