Package: SpatialFeatureExperiment Version: 1.13.0 Command: rm -rf SpatialFeatureExperiment.buildbin-libdir && mkdir SpatialFeatureExperiment.buildbin-libdir && /Users/biocbuild/BBS/utils/build-universal.sh SpatialFeatureExperiment_1.13.0.tar.gz /Library/Frameworks/R.framework/Resources/bin/R SpatialFeatureExperiment.buildbin-libdir StartedAt: 2025-11-19 23:54:29 -0500 (Wed, 19 Nov 2025) EndedAt: 2025-11-19 23:54:56 -0500 (Wed, 19 Nov 2025) EllapsedTime: 26.6 seconds RetCode: 0 Status: OK PackageFile: SpatialFeatureExperiment_1.13.0.tgz PackageFileSize: 2.933 MiB