Package: SpatialFeatureExperiment Version: 1.13.0 Command: /Library/Frameworks/R.framework/Resources/bin/R CMD INSTALL SpatialFeatureExperiment StartedAt: 2025-11-19 15:18:18 -0500 (Wed, 19 Nov 2025) EndedAt: 2025-11-19 15:18:40 -0500 (Wed, 19 Nov 2025) EllapsedTime: 22.2 seconds RetCode: 0 Status: OK