Package: SpatialFeatureExperiment Version: 1.13.0 Command: /Library/Frameworks/R.framework/Resources/bin/R CMD build --keep-empty-dirs --no-resave-data SpatialFeatureExperiment StartedAt: 2025-11-19 18:50:09 -0500 (Wed, 19 Nov 2025) EndedAt: 2025-11-19 18:52:40 -0500 (Wed, 19 Nov 2025) EllapsedTime: 150.8 seconds RetCode: 0 Status: OK PackageFile: SpatialFeatureExperiment_1.13.0.tar.gz PackageFileSize: 1.819 MiB