Package: SpatialFeatureExperiment Version: 1.13.0 Command: /Library/Frameworks/R.framework/Resources/bin/R CMD INSTALL SpatialFeatureExperiment StartedAt: 2025-11-19 15:35:49 -0500 (Wed, 19 Nov 2025) EndedAt: 2025-11-19 15:37:10 -0500 (Wed, 19 Nov 2025) EllapsedTime: 80.5 seconds RetCode: 0 Status: OK