Package: SpatialFeatureExperiment Version: 1.13.0 Command: /home/biocbuild/bbs-3.23-bioc/R/bin/R CMD INSTALL SpatialFeatureExperiment StartedAt: 2025-11-19 15:36:28 -0500 (Wed, 19 Nov 2025) EndedAt: 2025-11-19 15:37:25 -0500 (Wed, 19 Nov 2025) EllapsedTime: 57.1 seconds RetCode: 0 Status: OK