Package: SpectriPy Version: 1.1.0 Command: /Library/Frameworks/R.framework/Resources/bin/R CMD build --keep-empty-dirs --no-resave-data SpectriPy StartedAt: 2025-11-18 17:57:10 -0500 (Tue, 18 Nov 2025) EndedAt: 2025-11-18 17:57:21 -0500 (Tue, 18 Nov 2025) EllapsedTime: 11.1 seconds RetCode: 1 Status: ERROR PackageFile: None PackageFileSize: NA